BEGIN:VCALENDAR
VERSION:2.0
PRODID:-//wp-events-plugin.com//7.2.3.1//EN
TZID:America/Toronto
X-WR-TIMEZONE:America/Toronto
BEGIN:VEVENT
UID:0-186@oraynu.org
DTSTART;TZID=America/Toronto:20260509T160000
DTEND;TZID=America/Toronto:20260509T180000
DTSTAMP:20260415T214522Z
URL:https://www.oraynu.org/events/special-event-art-for-activism/
SUMMARY:SPECIAL EVENT: ART FOR ACTIVISM
DESCRIPTION:Join us at the Miles Nadal JCC as we offer an inspiring LIVE M
 USICAL EVENT to benefit Keep6ix and its wonderful work with at-risk you
 th.\n\nOur afternoon will feature:  \n\n 	Keep6ix Youth Musicians\n 	Ora
 ynu Voices\n 	Special Guests including Aurora Browne (Baroness Von Sketch
 ) and Kris Siddiqi (The Debaters\, Because News)\n\nAnd an ARTISAN MARKE
 TPLACE\, with works displayed and sold by the creators themselves: Oraynu'
 s talented members and friends.  AND there will be nosh\, of course!!\n\n
 Tickets: $15 pp\n\nOur room at the MNJCC maxes out at about 100 attendees\
 , so... get your tickets sooner rather than later!\n\nAll proceeds from ti
 cket sales will be forwarded to Keep6ix. And our artisans have committed t
 o forwarding a minimum of 20% of THEIR sales to Keep6ix\, too!  THANK YOU
 !!\n\nPlease consider a donation to benefit Keep6ix for which a tax receip
 t will be issued by Oraynu.  THANK YOU!
LOCATION:Miles Nadal JCC\, Room 318\, 750 Spadina Ave. (at Bloor)\, Toronto
 \, ON\, M5S 2J2\, Canada
X-APPLE-STRUCTURED-LOCATION;VALUE=URI;X-ADDRESS=750 Spadina Ave. (at Bloor)
 \, Toronto\, ON\, M5S 2J2\, Canada;X-APPLE-RADIUS=100;X-TITLE=Miles Nadal 
 JCC\, Room 318:geo:0,0
END:VEVENT
BEGIN:VTIMEZONE
TZID:America/Toronto
X-LIC-LOCATION:America/Toronto
BEGIN:DAYLIGHT
DTSTART:20260308T030000
TZOFFSETFROM:-0500
TZOFFSETTO:-0400
TZNAME:EDT
END:DAYLIGHT
END:VTIMEZONE
END:VCALENDAR